BEGIN:VCALENDAR
VERSION:2.0
PRODID:-//https://lecze-salezjanie.pl///DJ-Events//EN
BEGIN:VEVENT
SUMMARY:+ Nikola Stokłosińska - w 21 rocznicę śmierci, Franciszek Pięknik - w 12 rocznicę śmierci i zmarli z obojga stron
UID:2029@https://lecze-salezjanie.pl/
DTSTART:20240211T103000
DTEND:20240211T103000
DTSTAMP:20260420T061933
CATEGORIES:Msza święta
LOCATION:Suchacz 82-340 Kielecka 14
GEO:54.2856461944789;19.44132685661316
DESCRIPTION:
URL:https://lecze-salezjanie.pl//component/djevents/details/2024-02-11/2029-nikola-stoklosinska-w-21-rocznice-smierci-franciszek-pieknik-w-12-rocznice-smierci-i-zmarli-z-obojga-stron
END:VEVENT
END:VCALENDAR
