BEGIN:VCALENDAR
VERSION:2.0
PRODID:-//https://lecze-salezjanie.pl///DJ-Events//EN
BEGIN:VEVENT
SUMMARY:O dary Bożej Miłości, świętość życia, opiekę Matki Bożej i wyzwolenie z nałogów w rodzinie
UID:1846@https://lecze-salezjanie.pl/
DTSTART:20240212T180000
DTEND:20240212T180000
DTSTAMP:20260420T062450
CATEGORIES:Msza święta
LOCATION:Łęcze 82-340 Łęcze 48
GEO:54.2700545652713;19.468870040475466
DESCRIPTION:
URL:https://lecze-salezjanie.pl//component/djevents/details/2024-02-12/1846-o-dary-bozej-milosci-swietosc-zycia-opieke-matki-bozej-i-wyzwolenie-z-nalogow-w-rodzinie-2
END:VEVENT
END:VCALENDAR
