BEGIN:VCALENDAR
VERSION:2.0
PRODID:-//https://lecze-salezjanie.pl///DJ-Events//EN
BEGIN:VEVENT
SUMMARY:+ Janina Szmygiel - Msza święta Gregoriańska (13)
UID:1933@https://lecze-salezjanie.pl/
DTSTART:20240213T170000
DTEND:20240213T170000
DTSTAMP:20260420T061650
CATEGORIES:Msza święta
LOCATION:Suchacz 82-340 Kielecka 14
GEO:54.2856461944789;19.44132685661316
DESCRIPTION:
URL:https://lecze-salezjanie.pl//component/djevents/details/2024-02-13/1933-janina-szmygiel-msza-swieta-gregorianska-13
END:VEVENT
END:VCALENDAR
