BEGIN:VCALENDAR
VERSION:2.0
PRODID:-//https://lecze-salezjanie.pl///DJ-Events//EN
BEGIN:VEVENT
SUMMARY:+ Jan i Anna Burel
UID:1832@https://lecze-salezjanie.pl/
DTSTART:20240214T180000
DTEND:20240214T180000
DTSTAMP:20260420T060541
CATEGORIES:Msza święta
LOCATION:Łęcze 82-340 Łęcze 48
GEO:54.2700545652713;19.468870040475466
DESCRIPTION:
URL:https://lecze-salezjanie.pl//component/djevents/details/2024-02-14/1832-jan-i-anna-burel-1
END:VEVENT
END:VCALENDAR
