BEGIN:VCALENDAR
VERSION:2.0
PRODID:-//https://lecze-salezjanie.pl///DJ-Events//EN
BEGIN:VEVENT
SUMMARY:Za Parafian
UID:2031@https://lecze-salezjanie.pl/
DTSTART:20240214T160000
DTEND:20240214T160000
DTSTAMP:20260420T060435
CATEGORIES:Msza święta
LOCATION:Kamionek Wielki 82-340 Kamionek Wielki 5
GEO:54.262029131955885;19.404954271163948
DESCRIPTION:
URL:https://lecze-salezjanie.pl//component/djevents/details/2024-02-14/2031-za-parafian-2
END:VEVENT
END:VCALENDAR
