BEGIN:VCALENDAR
VERSION:2.0
PRODID:-//https://lecze-salezjanie.pl///DJ-Events//EN
BEGIN:VEVENT
SUMMARY:+ Janina i Edward Czernis
UID:2070@https://lecze-salezjanie.pl/
DTSTART:20240218T090000
DTEND:20240218T090000
DTSTAMP:20260420T074128
CATEGORIES:Msza święta
LOCATION:Suchacz 82-340 Kielecka 14
GEO:54.2856461944789;19.44132685661316
DESCRIPTION:
URL:https://lecze-salezjanie.pl//component/djevents/details/2024-02-18/2070-janina-i-edward-czernis-2
END:VEVENT
END:VCALENDAR
