BEGIN:VCALENDAR
VERSION:2.0
PRODID:-//https://lecze-salezjanie.pl///DJ-Events//EN
BEGIN:VEVENT
SUMMARY:Za dusze w czyśćcu cierpiące
UID:1939@https://lecze-salezjanie.pl/
DTSTART:20240220T170000
DTEND:20240220T170000
DTSTAMP:20260420T074212
CATEGORIES:Msza święta
LOCATION:Suchacz 82-340 Kielecka 14
GEO:54.2856461944789;19.44132685661316
DESCRIPTION:
URL:https://lecze-salezjanie.pl//component/djevents/details/2024-02-20/1939-za-dusze-w-czysccu-cierpiace-2
END:VEVENT
END:VCALENDAR
