BEGIN:VCALENDAR
VERSION:2.0
PRODID:-//https://lecze-salezjanie.pl///DJ-Events//EN
BEGIN:VEVENT
SUMMARY:W intencji ofiarodawców
UID:1854@https://lecze-salezjanie.pl/
DTSTART:20240224T180000
DTEND:20240224T180000
DTSTAMP:20260420T074458
CATEGORIES:Msza święta
LOCATION:Łęcze 82-340 Łęcze 48
GEO:54.2700545652713;19.468870040475466
DESCRIPTION:
URL:https://lecze-salezjanie.pl//component/djevents/details/2024-02-24/1854-w-intencji-ofiarodawcow-2
END:VEVENT
END:VCALENDAR
