BEGIN:VCALENDAR
VERSION:2.0
PRODID:-//https://lecze-salezjanie.pl///DJ-Events//EN
BEGIN:VEVENT
SUMMARY:+ Jan Adamczyk - w 10 rocznicę śmierci
UID:1855@https://lecze-salezjanie.pl/
DTSTART:20240225T120000
DTEND:20240225T120000
DTSTAMP:20260420T091450
CATEGORIES:Msza święta
LOCATION:Łęcze 82-340 Łęcze 48
GEO:54.2700545652713;19.468870040475466
DESCRIPTION:
URL:https://lecze-salezjanie.pl//component/djevents/details/2024-02-25/1855-jan-adamczyk-w-10-rocznice-smierci
END:VEVENT
END:VCALENDAR
