BEGIN:VCALENDAR
VERSION:2.0
PRODID:-//https://lecze-salezjanie.pl///DJ-Events//EN
BEGIN:VEVENT
SUMMARY:+ Krystyna Rakowska - w 1 rocznicę śmierci
UID:1942@https://lecze-salezjanie.pl/
DTSTART:20240225T090000
DTEND:20240225T090000
DTSTAMP:20260420T091637
CATEGORIES:Msza święta
LOCATION:Suchacz 82-340 Kielecka 14
GEO:54.2856461944789;19.44132685661316
DESCRIPTION:
URL:https://lecze-salezjanie.pl//component/djevents/details/2024-02-25/1942-krystyna-rakowska-w-1-rocznice-smierci
END:VEVENT
END:VCALENDAR
