BEGIN:VCALENDAR
VERSION:2.0
PRODID:-//https://lecze-salezjanie.pl///DJ-Events//EN
BEGIN:VEVENT
SUMMARY:+ Stanisława Rogowska - w miesiąc po śmierci
UID:2072@https://lecze-salezjanie.pl/
DTSTART:20240225T103000
DTEND:20240225T103000
DTSTAMP:20260420T091722
CATEGORIES:Msza święta
LOCATION:Suchacz 82-340 Kielecka 14
GEO:54.2856461944789;19.44132685661316
DESCRIPTION:
URL:https://lecze-salezjanie.pl//component/djevents/details/2024-02-25/2072-stanislawa-rogowska-w-miesiac-po-smierci
END:VEVENT
END:VCALENDAR
