BEGIN:VCALENDAR
VERSION:2.0
PRODID:-//https://lecze-salezjanie.pl///DJ-Events//EN
BEGIN:VEVENT
SUMMARY:+ Janina Szmygiel - Msza święta Gregoriańska (27)
UID:1944@https://lecze-salezjanie.pl/
DTSTART:20240227T170000
DTEND:20240227T170000
DTSTAMP:20260420T091852
CATEGORIES:Msza święta
LOCATION:Suchacz 82-340 Kielecka 14
GEO:54.2856461944789;19.44132685661316
DESCRIPTION:
URL:https://lecze-salezjanie.pl//component/djevents/details/2024-02-27/1944-janina-szmygiel-msza-swieta-gregorianska-27
END:VEVENT
END:VCALENDAR
