BEGIN:VCALENDAR
VERSION:2.0
PRODID:-//https://lecze-salezjanie.pl///DJ-Events//EN
BEGIN:VEVENT
SUMMARY:+ Leszek Kordowski
UID:2115@https://lecze-salezjanie.pl/
DTSTART:20240227T133000
DTEND:20240227T133000
DTSTAMP:20260420T091332
CATEGORIES:Pogrzeb
LOCATION:Suchacz 82-340 Kielecka 14
GEO:54.2856461944789;19.44132685661316
DESCRIPTION:
URL:https://lecze-salezjanie.pl//component/djevents/details/2024-02-27/2115-leszek-kordowski
END:VEVENT
END:VCALENDAR
