BEGIN:VCALENDAR
VERSION:2.0
PRODID:-//https://lecze-salezjanie.pl///DJ-Events//EN
BEGIN:VEVENT
SUMMARY:+ Janina Szmygiel - Msza święta Gregoriańska (28)
UID:1841@https://lecze-salezjanie.pl/
DTSTART:20240228T180000
DTEND:20240228T180000
DTSTAMP:20260420T091756
CATEGORIES:Msza święta
LOCATION:Łęcze 82-340 Łęcze 48
GEO:54.2700545652713;19.468870040475466
DESCRIPTION:
URL:https://lecze-salezjanie.pl//component/djevents/details/2024-02-28/1841-janina-szmygiel-msza-swieta-gregorianska-28
END:VEVENT
END:VCALENDAR
