BEGIN:VCALENDAR
VERSION:2.0
PRODID:-//https://lecze-salezjanie.pl///DJ-Events//EN
BEGIN:VEVENT
SUMMARY:+ Feliks i Bronisława Makarewicz
UID:2073@https://lecze-salezjanie.pl/
DTSTART:20240229T170000
DTEND:20240229T170000
DTSTAMP:20260420T091722
CATEGORIES:Msza święta
LOCATION:Suchacz 82-340 Kielecka 14
GEO:54.2856461944789;19.44132685661316
DESCRIPTION:
URL:https://lecze-salezjanie.pl//component/djevents/details/2024-02-29/2073-feliks-i-bronislawa-makarewicz-1
END:VEVENT
END:VCALENDAR
