BEGIN:VCALENDAR
VERSION:2.0
PRODID:-//https://lecze-salezjanie.pl///DJ-Events//EN
BEGIN:VEVENT
SUMMARY:O dary Bożej Miłości i opiekę Matki Bożej dla Teresy
UID:2032@https://lecze-salezjanie.pl/
DTSTART:20240302T180000
DTEND:20240302T180000
DTSTAMP:20260420T091935
CATEGORIES:Msza święta
LOCATION:Łęcze 82-340 Łęcze 48
GEO:54.2700545652713;19.468870040475466
DESCRIPTION:
URL:https://lecze-salezjanie.pl//component/djevents/details/2024-03-02/2032-o-dary-bozej-milosci-i-opieke-matki-bozej-dla-danuty-sulima-2
END:VEVENT
END:VCALENDAR
