BEGIN:VCALENDAR
VERSION:2.0
PRODID:-//https://lecze-salezjanie.pl///DJ-Events//EN
BEGIN:VEVENT
SUMMARY:Dziękczynna za otrzymane łaski, z prośbą o Boże Błogosławieństwo i opiekę Matki Bożej w dalszym życiu dla rodziny
UID:1948@https://lecze-salezjanie.pl/
DTSTART:20240303T090000
DTEND:20240303T090000
DTSTAMP:20260422T110716
CATEGORIES:Msza święta
LOCATION:Suchacz 82-340 Kielecka 14
GEO:54.2856461944789;19.44132685661316
DESCRIPTION:
URL:https://lecze-salezjanie.pl//component/djevents/details/2024-03-03/1948-dziekczynna-za-otrzymane-laski-z-prosba-o-boze-blogoslawienstwo-i-opieke-matki-bozej-w-dalszym-zyciu-dla-rodziny
END:VEVENT
END:VCALENDAR
