BEGIN:VCALENDAR
VERSION:2.0
PRODID:-//https://lecze-salezjanie.pl///DJ-Events//EN
BEGIN:VEVENT
SUMMARY:+ Jan i Helena Sylwestrzak i zmarli rodzice z obojga stron
UID:1949@https://lecze-salezjanie.pl/
DTSTART:20240303T103000
DTEND:20240303T103000
DTSTAMP:20260422T110558
CATEGORIES:Msza święta
LOCATION:Suchacz 82-340 Kielecka 14
GEO:54.2856461944789;19.44132685661316
DESCRIPTION:
URL:https://lecze-salezjanie.pl//component/djevents/details/2024-03-03/1949-jan-i-helena-sylwestrzak-i-zmarli-rodzice-z-obojga-stron
END:VEVENT
END:VCALENDAR
