BEGIN:VCALENDAR
VERSION:2.0
PRODID:-//https://lecze-salezjanie.pl///DJ-Events//EN
BEGIN:VEVENT
SUMMARY:O Dary Ducha Świętego, zdrowie i nieustanną opiekę Matki Bożej dla Leny z okazji 13 urodzin
UID:1860@https://lecze-salezjanie.pl/
DTSTART:20240304T180000
DTEND:20240304T180000
DTSTAMP:20260422T110611
CATEGORIES:Msza święta
LOCATION:Łęcze 82-340 Łęcze 48
GEO:54.2700545652713;19.468870040475466
DESCRIPTION:
URL:https://lecze-salezjanie.pl//component/djevents/details/2024-03-04/1860-o-dary-ducha-swietego-zdrowie-i-nieustanna-opieke-matki-bozej-dla-leny-z-okazji-13-urodzin
END:VEVENT
END:VCALENDAR
