BEGIN:VCALENDAR
VERSION:2.0
PRODID:-//https://lecze-salezjanie.pl///DJ-Events//EN
BEGIN:VEVENT
SUMMARY:+ Anna Nikiciuk - w miesiąc po śmierci
UID:2035@https://lecze-salezjanie.pl/
DTSTART:20240306T180000
DTEND:20240306T180000
DTSTAMP:20260422T110526
CATEGORIES:Msza święta
LOCATION:Łęcze 82-340 Łęcze 48
GEO:54.2700545652713;19.468870040475466
DESCRIPTION:
URL:https://lecze-salezjanie.pl//component/djevents/details/2024-03-06/2035-anna-nikiciuk-w-miesiac-po-smierci
END:VEVENT
END:VCALENDAR
