BEGIN:VCALENDAR
VERSION:2.0
PRODID:-//https://lecze-salezjanie.pl///DJ-Events//EN
BEGIN:VEVENT
SUMMARY:O dary Bożej Miłości, zdrowie i nieustanną opiekę Matki Bożej dla rodziny Cywińskich
UID:2116@https://lecze-salezjanie.pl/
DTSTART:20240307T170000
DTEND:20240307T170000
DTSTAMP:20260422T110612
CATEGORIES:Msza święta
LOCATION:Suchacz 82-340 Kielecka 14
GEO:54.2856461944789;19.44132685661316
DESCRIPTION:
URL:https://lecze-salezjanie.pl//component/djevents/details/2024-03-07/2116-o-dary-bozej-milosci-zdrowie-i-nieustanna-opieke-matki-bozej-dla-rodziny-cywinskich
END:VEVENT
END:VCALENDAR
