BEGIN:VCALENDAR
VERSION:2.0
PRODID:-//https://lecze-salezjanie.pl///DJ-Events//EN
BEGIN:VEVENT
SUMMARY:O radość nieba dla + Elżbiety
UID:2036@https://lecze-salezjanie.pl/
DTSTART:20240308T180000
DTEND:20240308T180000
DTSTAMP:20260422T110032
CATEGORIES:Msza święta
LOCATION:Łęcze 82-340 Łęcze 48
GEO:54.2700545652713;19.468870040475466
DESCRIPTION:
URL:https://lecze-salezjanie.pl//component/djevents/details/2024-03-08/2036-o-radosc-nieba-dla-elzbiety
END:VEVENT
END:VCALENDAR
