BEGIN:VCALENDAR
VERSION:2.0
PRODID:-//https://lecze-salezjanie.pl///DJ-Events//EN
BEGIN:VEVENT
SUMMARY:O dary Bożej Miłości, zdrowie i nieustanną opiekę Matki Bożej dla Bartka
UID:2110@https://lecze-salezjanie.pl/
DTSTART:20240308T081500
DTEND:20240308T081500
DTSTAMP:20260422T110538
CATEGORIES:Msza święta
LOCATION:Łęcze 82-340 Łęcze 48
GEO:54.2700545652713;19.468870040475466
DESCRIPTION:
URL:https://lecze-salezjanie.pl//component/djevents/details/2024-03-08/2110-o-dary-bozej-milosci-zdrowie-i-nieustanna-opieke-matki-bozej-dla-bartka
END:VEVENT
END:VCALENDAR
