BEGIN:VCALENDAR
VERSION:2.0
PRODID:-//https://lecze-salezjanie.pl///DJ-Events//EN
BEGIN:VEVENT
SUMMARY:+ Tadeusz Gołębiowski oraz zmarłych rodziców Helenę i Stanisława
UID:2111@https://lecze-salezjanie.pl/
DTSTART:20240309T180000
DTEND:20240309T180000
DTSTAMP:20260422T110458
CATEGORIES:Msza święta
LOCATION:Łęcze 82-340 Łęcze 48
GEO:54.2700545652713;19.468870040475466
DESCRIPTION:
URL:https://lecze-salezjanie.pl//component/djevents/details/2024-03-09/2111-tadeusz-golebiowski-oraz-zmarlych-rodzicow-helene-i-stanislawa
END:VEVENT
END:VCALENDAR
