BEGIN:VCALENDAR
VERSION:2.0
PRODID:-//https://lecze-salezjanie.pl///DJ-Events//EN
BEGIN:VEVENT
SUMMARY:+ Anna Konwent - w 11 rocznicę śmierci
UID:2005@https://lecze-salezjanie.pl/
DTSTART:20240310T090000
DTEND:20240310T090000
DTSTAMP:20260422T123531
CATEGORIES:Msza święta
LOCATION:Łęcze 82-340 Łęcze 48
GEO:54.2700545652713;19.468870040475466
DESCRIPTION:
URL:https://lecze-salezjanie.pl//component/djevents/details/2024-03-10/2005-anna-konwent-w-11-rocznice-smierci
END:VEVENT
END:VCALENDAR
