BEGIN:VCALENDAR
VERSION:2.0
PRODID:-//https://lecze-salezjanie.pl///DJ-Events//EN
BEGIN:VEVENT
SUMMARY:+ Kazimierz, Sławomir i wszyscy zmarli z rodziny Milewskich
UID:2075@https://lecze-salezjanie.pl/
DTSTART:20240310T120000
DTEND:20240310T120000
DTSTAMP:20260422T123711
CATEGORIES:Msza święta
LOCATION:Kamionek Wielki 82-340 Kamionek Wielki 5
GEO:54.262029131955885;19.404954271163948
DESCRIPTION:
URL:https://lecze-salezjanie.pl//component/djevents/details/2024-03-10/2075-kazimierz-slawomir-i-wszyscy-zmarli-z-rodziny-milewskich
END:VEVENT
END:VCALENDAR
