BEGIN:VCALENDAR
VERSION:2.0
PRODID:-//https://lecze-salezjanie.pl///DJ-Events//EN
BEGIN:VEVENT
SUMMARY:+ Rozalia - w 20 rocznicę śmierci i Janusz - w 15 rocznicę Romanowscy
UID:2133@https://lecze-salezjanie.pl/
DTSTART:20240314T170000
DTEND:20240314T170000
DTSTAMP:20260422T123703
CATEGORIES:Msza święta
LOCATION:Suchacz 82-340 Kielecka 14
GEO:54.2856461944789;19.44132685661316
DESCRIPTION:
URL:https://lecze-salezjanie.pl//component/djevents/details/2024-03-14/2133-rozalia-w-20-rocznice-smierci-i-janusz-w-15-rocznice-romanowscy
END:VEVENT
END:VCALENDAR
