BEGIN:VCALENDAR
VERSION:2.0
PRODID:-//https://lecze-salezjanie.pl///DJ-Events//EN
BEGIN:VEVENT
SUMMARY:+ Stanisław - w 35 rocznicę śmierci, Janina i zmarli z rodziny Woś, Jadwiga i Józef Wiśniewscy
UID:1864@https://lecze-salezjanie.pl/
DTSTART:20240317T090000
DTEND:20240317T090000
DTSTAMP:20260422T141041
CATEGORIES:Msza święta
LOCATION:Łęcze 82-340 Łęcze 48
GEO:54.2700545652713;19.468870040475466
DESCRIPTION:
URL:https://lecze-salezjanie.pl//component/djevents/details/2024-03-17/1864-stanislaw-w-35-rocznice-smierci-janina-i-zmarli-z-rodziny-wos-jadwiga-i-jozef-wisniewscy
END:VEVENT
END:VCALENDAR
