BEGIN:VCALENDAR
VERSION:2.0
PRODID:-//https://lecze-salezjanie.pl///DJ-Events//EN
BEGIN:VEVENT
SUMMARY:O dary Bożej Miłości, zdrowie i opiekę Matki Bożej dla Oliwii i Laury z okazji urodzin
UID:2006@https://lecze-salezjanie.pl/
DTSTART:20240317T120000
DTEND:20240317T120000
DTSTAMP:20260422T141124
CATEGORIES:Msza święta
LOCATION:Łęcze 82-340 Łęcze 48
GEO:54.2700545652713;19.468870040475466
DESCRIPTION:
URL:https://lecze-salezjanie.pl//component/djevents/details/2024-03-17/2006-o-dary-bozej-milosci-zdrowie-i-opieke-matki-bozej-dla-oliwii-i-laury-z-okazji-urodzin
END:VEVENT
END:VCALENDAR
