BEGIN:VCALENDAR
VERSION:2.0
PRODID:-//https://lecze-salezjanie.pl///DJ-Events//EN
BEGIN:VEVENT
SUMMARY:+ Kazimierz Hornof - w 18 rocznicę śmierci
UID:2076@https://lecze-salezjanie.pl/
DTSTART:20240317T120000
DTEND:20240317T120000
DTSTAMP:20260422T140911
CATEGORIES:Msza święta
LOCATION:Kamionek Wielki 82-340 Kamionek Wielki 5
GEO:54.262029131955885;19.404954271163948
DESCRIPTION:
URL:https://lecze-salezjanie.pl//component/djevents/details/2024-03-17/2076-kazimierz-hornof-w-18-rocznice-smierci
END:VEVENT
END:VCALENDAR
