BEGIN:VCALENDAR
VERSION:2.0
PRODID:-//https://lecze-salezjanie.pl///DJ-Events//EN
BEGIN:VEVENT
SUMMARY:Zmarli rodzice: Józefa i Alojzy Brunowicz oraz zmarli sąsiedzi
UID:2077@https://lecze-salezjanie.pl/
DTSTART:20240317T090000
DTEND:20240317T090000
DTSTAMP:20260422T141031
CATEGORIES:Msza święta
LOCATION:Suchacz 82-340 Kielecka 14
GEO:54.2856461944789;19.44132685661316
DESCRIPTION:
URL:https://lecze-salezjanie.pl//component/djevents/details/2024-03-17/2077-zmarli-rodzice-jozefa-i-alojzy-brunowicz-oraz-zmarli-sasiedzi
END:VEVENT
END:VCALENDAR
