BEGIN:VCALENDAR
VERSION:2.0
PRODID:-//https://lecze-salezjanie.pl///DJ-Events//EN
BEGIN:VEVENT
SUMMARY:+ Wacław Pluta - w 7 rocznicę śmierci i wszyscy zmarli z rodziny Plutów
UID:2078@https://lecze-salezjanie.pl/
DTSTART:20240317T103000
DTEND:20240317T103000
DTSTAMP:20260422T141032
CATEGORIES:Msza święta
LOCATION:Suchacz 82-340 Kielecka 14
GEO:54.2856461944789;19.44132685661316
DESCRIPTION:
URL:https://lecze-salezjanie.pl//component/djevents/details/2024-03-17/2078-waclaw-pluta-w-7-rocznice-smierci-i-wszyscy-zmarli-z-rodziny-plutow
END:VEVENT
END:VCALENDAR
