BEGIN:VCALENDAR
VERSION:2.0
PRODID:-//https://lecze-salezjanie.pl///DJ-Events//EN
BEGIN:VEVENT
SUMMARY:O dary Bożej Miłości, zdrowie i nieustanną opiekę Matki Bożej dla Krystyny Wójcik z okazji urodzin
UID:1865@https://lecze-salezjanie.pl/
DTSTART:20240318T180000
DTEND:20240318T180000
DTSTAMP:20260422T141123
CATEGORIES:Msza święta
LOCATION:Łęcze 82-340 Łęcze 48
GEO:54.2700545652713;19.468870040475466
DESCRIPTION:
URL:https://lecze-salezjanie.pl//component/djevents/details/2024-03-18/1865-o-dary-bozej-milosci-zdrowie-i-nieustanna-opieke-matki-bozej-dla-krystyny-wojcik-z-okazji-urodzin
END:VEVENT
END:VCALENDAR
