BEGIN:VCALENDAR
VERSION:2.0
PRODID:-//https://lecze-salezjanie.pl///DJ-Events//EN
BEGIN:VEVENT
SUMMARY:+ Henryk, Wacław, Józef, Sławomir i zmarli z rodziny
UID:1950@https://lecze-salezjanie.pl/
DTSTART:20240319T170000
DTEND:20240319T170000
DTSTAMP:20260422T141033
CATEGORIES:Msza święta
LOCATION:Suchacz 82-340 Kielecka 14
GEO:54.2856461944789;19.44132685661316
DESCRIPTION:
URL:https://lecze-salezjanie.pl//component/djevents/details/2024-03-19/1950-henryk-waclaw-jozef-slawomir-i-zmarli-z-rodziny
END:VEVENT
END:VCALENDAR
