BEGIN:VCALENDAR
VERSION:2.0
PRODID:-//https://lecze-salezjanie.pl///DJ-Events//EN
BEGIN:VEVENT
SUMMARY:W intencji Bogu wiadomej
UID:2138@https://lecze-salezjanie.pl/
DTSTART:20240321T170000
DTEND:20240321T170000
DTSTAMP:20260422T140730
CATEGORIES:Msza święta
LOCATION:Suchacz 82-340 Kielecka 14
GEO:54.2856461944789;19.44132685661316
DESCRIPTION:
URL:https://lecze-salezjanie.pl//component/djevents/details/2024-03-21/2138-w-intencji-bogu-wiadomej-5
END:VEVENT
END:VCALENDAR
