BEGIN:VCALENDAR
VERSION:2.0
PRODID:-//https://lecze-salezjanie.pl///DJ-Events//EN
BEGIN:VEVENT
SUMMARY:W intencji Bogu wiadomej
UID:2141@https://lecze-salezjanie.pl/
DTSTART:20240323T180000
DTEND:20240323T180000
DTSTAMP:20260422T140830
CATEGORIES:Msza święta
LOCATION:Łęcze 82-340 Łęcze 48
GEO:54.2700545652713;19.468870040475466
DESCRIPTION:
URL:https://lecze-salezjanie.pl//component/djevents/details/2024-03-23/2141-w-intencji-bogu-wiadomej-3
END:VEVENT
END:VCALENDAR
