BEGIN:VCALENDAR
VERSION:2.0
PRODID:-//https://lecze-salezjanie.pl///DJ-Events//EN
BEGIN:VEVENT
SUMMARY:+ ks. Stanisław Wójcik SDB - w 2 rocznicę śmierci
UID:1866@https://lecze-salezjanie.pl/
DTSTART:20240324T090000
DTEND:20240324T090000
DTSTAMP:20260422T155336
CATEGORIES:Msza święta
LOCATION:Łęcze 82-340 Łęcze 48
GEO:54.2700545652713;19.468870040475466
DESCRIPTION:
URL:https://lecze-salezjanie.pl//component/djevents/details/2024-03-24/1866-ks-stanislaw-wojcik-sdb-w-2-rocznice-smierci
END:VEVENT
END:VCALENDAR
