BEGIN:VCALENDAR
VERSION:2.0
PRODID:-//https://lecze-salezjanie.pl///DJ-Events//EN
BEGIN:VEVENT
SUMMARY:+ Rozwita Luiza Pawlak i Zbigniew Pawlak
UID:1867@https://lecze-salezjanie.pl/
DTSTART:20240324T120000
DTEND:20240324T120000
DTSTAMP:20260422T155501
CATEGORIES:Msza święta
LOCATION:Łęcze 82-340 Łęcze 48
GEO:54.2700545652713;19.468870040475466
DESCRIPTION:
URL:https://lecze-salezjanie.pl//component/djevents/details/2024-03-24/1867-rozwita-luiza-pawlak-i-zbigniew-pawlak
END:VEVENT
END:VCALENDAR
