BEGIN:VCALENDAR
VERSION:2.0
PRODID:-//https://lecze-salezjanie.pl///DJ-Events//EN
BEGIN:VEVENT
SUMMARY:+ Janina Kołodziejczak
UID:2079@https://lecze-salezjanie.pl/
DTSTART:20240324T090000
DTEND:20240324T090000
DTSTAMP:20260422T155116
CATEGORIES:Msza święta
LOCATION:Suchacz 82-340 Kielecka 14
GEO:54.2856461944789;19.44132685661316
DESCRIPTION:
URL:https://lecze-salezjanie.pl//component/djevents/details/2024-03-24/2079-janina-kolodziejczak
END:VEVENT
END:VCALENDAR
