BEGIN:VCALENDAR
VERSION:2.0
PRODID:-//https://lecze-salezjanie.pl///DJ-Events//EN
BEGIN:VEVENT
SUMMARY:+ Benedykt, Halina, Paweł i wszyscy zmarli z rodziny Gajewskich
UID:2081@https://lecze-salezjanie.pl/
DTSTART:20240324T120000
DTEND:20240324T120000
DTSTAMP:20260422T155519
CATEGORIES:Msza święta
LOCATION:Kamionek Wielki 82-340 Kamionek Wielki 5
GEO:54.262029131955885;19.404954271163948
DESCRIPTION:
URL:https://lecze-salezjanie.pl//component/djevents/details/2024-03-24/2081-benedykt-halina-pawel-i-wszyscy-zmarli-z-rodziny-gajewskich
END:VEVENT
END:VCALENDAR
