BEGIN:VCALENDAR
VERSION:2.0
PRODID:-//https://lecze-salezjanie.pl///DJ-Events//EN
BEGIN:VEVENT
SUMMARY:+ Jerzy Olesik - od siostrzeńca Michała z rodziną
UID:2042@https://lecze-salezjanie.pl/
DTSTART:20240325T180000
DTEND:20240325T180000
DTSTAMP:20260422T155416
CATEGORIES:Msza święta
LOCATION:Łęcze 82-340 Łęcze 48
GEO:54.2700545652713;19.468870040475466
DESCRIPTION:
URL:https://lecze-salezjanie.pl//component/djevents/details/2024-03-25/2042-jerzy-olesik-od-siostrzenca-michala-z-rodzina
END:VEVENT
END:VCALENDAR
