BEGIN:VCALENDAR
VERSION:2.0
PRODID:-//https://lecze-salezjanie.pl///DJ-Events//EN
BEGIN:VEVENT
SUMMARY:+ Janina - w 9 rocznicę śmierci i Antoni Kępka oraz Julia Kalinowska, Zbigniew i Krzysztof Kępka
UID:2113@https://lecze-salezjanie.pl/
DTSTART:20240327T180000
DTEND:20240327T180000
DTSTAMP:20260422T155516
CATEGORIES:Msza święta
LOCATION:Łęcze 82-340 Łęcze 48
GEO:54.2700545652713;19.468870040475466
DESCRIPTION:
URL:https://lecze-salezjanie.pl//component/djevents/details/2024-03-27/2113-janina-w-9-rocznice-smierci-i-antoni-kepka-oraz-julia-kalinowska-zbigniew-i-krzysztof-kepka
END:VEVENT
END:VCALENDAR
