BEGIN:VCALENDAR
VERSION:2.0
PRODID:-//https://lecze-salezjanie.pl///DJ-Events//EN
BEGIN:VEVENT
SUMMARY:Intencja własna kapłana
UID:2122@https://lecze-salezjanie.pl/
DTSTART:20240328T180000
DTEND:20240328T180000
DTSTAMP:20260422T155115
CATEGORIES:Msza święta
LOCATION:Łęcze 82-340 Łęcze 48
GEO:54.2700545652713;19.468870040475466
DESCRIPTION:
URL:https://lecze-salezjanie.pl//component/djevents/details/2024-03-28/2122-intencja-wlasna-kaplana
END:VEVENT
END:VCALENDAR
