BEGIN:VCALENDAR
VERSION:2.0
PRODID:-//https://lecze-salezjanie.pl///DJ-Events//EN
BEGIN:VEVENT
SUMMARY:W intencji własnej kapłana
UID:2142@https://lecze-salezjanie.pl/
DTSTART:20240328T170000
DTEND:20240328T170000
DTSTAMP:20260422T155325
CATEGORIES:Msza święta
LOCATION:Suchacz 82-340 Kielecka 14
GEO:54.2856461944789;19.44132685661316
DESCRIPTION:
URL:https://lecze-salezjanie.pl//component/djevents/details/2024-03-28/2142-w-intencji-wlasnej-kaplana-1
END:VEVENT
END:VCALENDAR
