BEGIN:VCALENDAR
VERSION:2.0
PRODID:-//https://lecze-salezjanie.pl///DJ-Events//EN
BEGIN:VEVENT
SUMMARY:+ Jan i Eleonora Kołakowscy, zmarłe rodzeństwo i wszyscy zmarli z rodziny
UID:2082@https://lecze-salezjanie.pl/
DTSTART:20240331T120000
DTEND:20240331T120000
DTSTAMP:20260422T175744
CATEGORIES:Msza święta
LOCATION:Kamionek Wielki 82-340 Kamionek Wielki 5
GEO:54.262029131955885;19.404954271163948
DESCRIPTION:
URL:https://lecze-salezjanie.pl//component/djevents/details/2024-03-31/2082-jan-i-eleonora-kolakowscy-zmarle-rodzenstwo-i-wszyscy-zmarli-z-rodziny
END:VEVENT
END:VCALENDAR
