BEGIN:VCALENDAR
VERSION:2.0
PRODID:-//https://lecze-salezjanie.pl///DJ-Events//EN
BEGIN:VEVENT
SUMMARY:Zmarli rodzice: Jan i Helena Kaczka, brat Jan oraz dziadkowie: Marianna i Feliks Rucińscy
UID:2123@https://lecze-salezjanie.pl/
DTSTART:20240331T060000
DTEND:20240331T060000
DTSTAMP:20260422T175813
CATEGORIES:Msza święta
LOCATION:Łęcze 82-340 Łęcze 48
GEO:54.2700545652713;19.468870040475466
DESCRIPTION:
URL:https://lecze-salezjanie.pl//component/djevents/details/2024-03-31/2123-zmarli-rodzice-jan-i-helena-kaczka-brat-jan-oraz-dziadkowie-marianna-i-feliks-rucinscy
END:VEVENT
END:VCALENDAR
