BEGIN:VCALENDAR
VERSION:2.0
PRODID:-//https://lecze-salezjanie.pl///DJ-Events//EN
BEGIN:VEVENT
SUMMARY:+ Helena, Edmund i Marian
UID:1952@https://lecze-salezjanie.pl/
DTSTART:20240401T090000
DTEND:20240401T090000
DTSTAMP:20260422T175254
CATEGORIES:Msza święta
LOCATION:Suchacz 82-340 Kielecka 14
GEO:54.2856461944789;19.44132685661316
DESCRIPTION:
URL:https://lecze-salezjanie.pl//component/djevents/details/2024-04-01/1952-helena-edmund-i-marian
END:VEVENT
END:VCALENDAR
