BEGIN:VCALENDAR
VERSION:2.0
PRODID:-//https://lecze-salezjanie.pl///DJ-Events//EN
BEGIN:VEVENT
SUMMARY:O zdrowie, Boże Błogosławieństwo i opiekę Matki Bożej dla Ryszarda
UID:2186@https://lecze-salezjanie.pl/
DTSTART:20240403T180000
DTEND:20240403T180000
DTSTAMP:20260422T175813
CATEGORIES:Msza święta
LOCATION:Łęcze 82-340 Łęcze 48
GEO:54.2700545652713;19.468870040475466
DESCRIPTION:
URL:https://lecze-salezjanie.pl//component/djevents/details/2024-04-03/2186-o-zdrowie-boze-blogoslawienstwo-i-opieke-matki-bozej-dla-ryszarda
END:VEVENT
END:VCALENDAR
