BEGIN:VCALENDAR
VERSION:2.0
PRODID:-//https://lecze-salezjanie.pl///DJ-Events//EN
BEGIN:VEVENT
SUMMARY:Dziękczynna, z prośbą o Boże Miłosierdzie dla Janiny Andrukiewicz i jej rodziny
UID:1871@https://lecze-salezjanie.pl/
DTSTART:20240407T120000
DTEND:20240407T120000
DTSTAMP:20260422T193521
CATEGORIES:Msza święta
LOCATION:Łęcze 82-340 Łęcze 48
GEO:54.2700545652713;19.468870040475466
DESCRIPTION:
URL:https://lecze-salezjanie.pl//component/djevents/details/2024-04-07/1871-dziekczynna-z-prosba-o-boze-milosierdzie-dla-janiny-andrukiewicz-i-jej-rodziny
END:VEVENT
END:VCALENDAR
