BEGIN:VCALENDAR
VERSION:2.0
PRODID:-//https://lecze-salezjanie.pl///DJ-Events//EN
BEGIN:VEVENT
SUMMARY:+ Rodzice: Katarzyna i Józef Pelc oraz Rodzeństwo: Weronika, Stanisława, Aniela, Jan i Bronisław
UID:2162@https://lecze-salezjanie.pl/
DTSTART:20240407T090000
DTEND:20240407T090000
DTSTAMP:20260422T193542
CATEGORIES:Msza święta
LOCATION:Łęcze 82-340 Łęcze 48
GEO:54.2700545652713;19.468870040475466
DESCRIPTION:
URL:https://lecze-salezjanie.pl//component/djevents/details/2024-04-07/2162-rodzice-katarzyna-i-jozef-pelc-oraz-rodzenstwo-weronika-stanislawa-aniela-jan-i-bronislaw
END:VEVENT
END:VCALENDAR
